BEGIN:VCALENDAR
VERSION:2.0
PRODID:-//hacksw/handcal//NONSGML v1.0//EN
BEGIN:VEVENT
DTSTAMP:20260508T220000Z
DTSTART:20260508T220000Z
DTEND:20260508T220000Z
LOCATION:Haus der Jugend, Adolf-Rohde-Straße 7, Itzehoe, 25524, Deutschland
SUMMARY:Kreisverbandstag 2026 der Jungen Union Steinburg, 10:00 Uhr
END:VEVENT
END:VCALENDAR
