BEGIN:VCALENDAR
VERSION:2.0
PRODID:-//hacksw/handcal//NONSGML v1.0//EN
BEGIN:VEVENT
DTSTAMP:20260421T220000Z
DTSTART:20260421T220000Z
DTEND:20260421T220000Z
LOCATION:Wiesengrundhalle, Wiesengrund 30, Kellinghusen, 25548, Deutschland
SUMMARY:Daniel Günther in Kellinghusen! 19:00 Uhr
END:VEVENT
END:VCALENDAR
