BEGIN:VCALENDAR
VERSION:2.0
PRODID:-//hacksw/handcal//NONSGML v1.0//EN
BEGIN:VEVENT
DTSTAMP:20251201T230000Z
DTSTART:20251201T230000Z
DTEND:20251201T230000Z
LOCATION:Restaurant "Anno 1617", Am Markt 5-6, Glückstadt, 25348, Deutschland
SUMMARY:Fraktion vor Ort, 02.12.2025, 19:00 Uhr, Glückstadt im "Anno 1617"
END:VEVENT
END:VCALENDAR
