BEGIN:VCALENDAR
VERSION:2.0
PRODID:-//hacksw/handcal//NONSGML v1.0//EN
BEGIN:VEVENT
DTSTAMP:20250713T063000Z
DTSTART:20250713T063000Z
DTEND:20250713T120000Z
LOCATION:Abfahrt: Parkplatz Media-Markt, Otto-F.-Alsen-Straße 2, Itzehoe, 25524, Deutschland
SUMMARY:Sommerausflug: "Tag der offenen Tür" im Kieler Landtag
END:VEVENT
END:VCALENDAR
