BEGIN:VCALENDAR
VERSION:2.0
PRODID:-//hacksw/handcal//NONSGML v1.0//EN
BEGIN:VEVENT
DTSTAMP:20250508T220000Z
DTSTART:20250508T220000Z
DTEND:20250508T220000Z
LOCATION:Café Schwarz, Breitenburger Straße 14, Itzehoe, 25524, Deutschland
SUMMARY:Einladung zum Kaffeeklatsch des CDU-Ortsverbandes Itzehoe, 15:00 Uhr
END:VEVENT
END:VCALENDAR
