BEGIN:VCALENDAR
VERSION:2.0
PRODID:-//hacksw/handcal//NONSGML v1.0//EN
BEGIN:VEVENT
DTSTAMP:20240709T170000Z
DTSTART:20240709T170000Z
DTEND:20240709T170000Z
SUMMARY:Kreisvorstandssitzung, Kreisgeschäftsstelle Itzehoe, Feldschmiede 77a
END:VEVENT
END:VCALENDAR
