BEGIN:VCALENDAR
VERSION:2.0
PRODID:-//hacksw/handcal//NONSGML v1.0//EN
BEGIN:VEVENT
DTSTAMP:20230512T140000Z
DTSTART:20230512T140000Z
DTEND:20230512T160000Z
SUMMARY:Wahlkampfstand, CDU Kiebitzreihe, Edeka Lender
END:VEVENT
END:VCALENDAR
