BEGIN:VCALENDAR
VERSION:2.0
PRODID:-//hacksw/handcal//NONSGML v1.0//EN
BEGIN:VEVENT
DTSTAMP:20220502T080000Z
DTSTART:20220502T080000Z
DTEND:20220502T080000Z
LOCATION:Himmel und Erde Itzehoe, Kirchenstraße 5, Itzehoe, 25524, Deutschland
SUMMARY:Justizpolitisches Frühstück mit Minister Claus Christian Claussen, MdL
END:VEVENT
END:VCALENDAR
