BEGIN:VCALENDAR
VERSION:2.0
PRODID:-//hacksw/handcal//NONSGML v1.0//EN
BEGIN:VEVENT
DTSTAMP:20220429T110000Z
DTSTART:20220429T110000Z
DTEND:20220429T110000Z
LOCATION:Edeka Boll/ Wohnpark Wacken, Wacken, 25596, Deutschland
SUMMARY:Infostand und Grillen mit Peter-Harry Carstensen in Wacken
END:VEVENT
END:VCALENDAR
