BEGIN:VCALENDAR
VERSION:2.0
PRODID:-//hacksw/handcal//NONSGML v1.0//EN
BEGIN:VEVENT
DTSTAMP:20220414T073000Z
DTSTART:20220414T073000Z
DTEND:20220414T073000Z
LOCATION:Wochenmarkt Hohenwestedt, Hohenwestedt, Deutschland
SUMMARY:Infostand in Hohenwestedt
END:VEVENT
END:VCALENDAR
