BEGIN:VCALENDAR
VERSION:2.0
PRODID:-//hacksw/handcal//NONSGML v1.0//EN
BEGIN:VEVENT
DTSTAMP:20220409T070000Z
DTSTART:20220409T070000Z
DTEND:20220409T070000Z
LOCATION:Edeka Kiebitzreihe, Ringstraße 11, Kiebitzreihe, 25368, Deutschland
SUMMARY:Infostand in Kiebitzreihe
END:VEVENT
END:VCALENDAR
