BEGIN:VCALENDAR
VERSION:2.0
PRODID:-//hacksw/handcal//NONSGML v1.0//EN
BEGIN:VEVENT
DTSTAMP:20220414T170000Z
DTSTART:20220414T170000Z
DTEND:20220414T170000Z
LOCATION:Oeschebüttel, Oeschebüttel, 25548, Deutschland
SUMMARY:Osterfeuer in Oeschebüttel
END:VEVENT
END:VCALENDAR
