BEGIN:VCALENDAR
VERSION:2.0
PRODID:-//hacksw/handcal//NONSGML v1.0//EN
BEGIN:VEVENT
DTSTAMP:20220504T140000Z
DTSTART:20220504T140000Z
DTEND:20220504T140000Z
LOCATION:Korfu, Bahnhofstraße 3, Glückstadt, 25348, Deutschland
SUMMARY:Pendler-Aktion im Korfu
END:VEVENT
END:VCALENDAR
