BEGIN:VCALENDAR
VERSION:2.0
PRODID:-//hacksw/handcal//NONSGML v1.0//EN
BEGIN:VEVENT
DTSTAMP:20201021T170000Z
DTSTART:20201021T170000Z
DTEND:20201021T170000Z
LOCATION:Katholisches Gemeindezentrum, Königsberger Straße 1, Glückstadt, 25348, Deutschland
SUMMARY:Jahreshauptversammlung der CDU Glückstadt
END:VEVENT
END:VCALENDAR
