BEGIN:VCALENDAR
VERSION:2.0
PRODID:-//hacksw/handcal//NONSGML v1.0//EN
BEGIN:VEVENT
DTSTAMP:20200609T153000Z
DTSTART:20200609T153000Z
DTEND:20200609T153000Z
LOCATION:Fraktionssitzungssaal R.249, Düsternbrooker Weg 70, Kiel, 24105, Deutschland
SUMMARY:Sitzung des LFA Innenpolitik
END:VEVENT
END:VCALENDAR
