BEGIN:VCALENDAR
VERSION:2.0
PRODID:-//hacksw/handcal//NONSGML v1.0//EN
BEGIN:VEVENT
DTSTAMP:20201205T140000Z
DTSTART:20201205T140000Z
DTEND:20201205T140000Z
LOCATION:Bürgerhaus Brokstedt, Brokstedt, 24616, Deutschland
SUMMARY:Adventsvergnügen CDU Brokstedt
END:VEVENT
END:VCALENDAR
