BEGIN:VCALENDAR
VERSION:2.0
PRODID:-//hacksw/handcal//NONSGML v1.0//EN
BEGIN:VEVENT
DTSTAMP:20190726T171500Z
DTSTART:20190726T171500Z
DTEND:20190726T171500Z
LOCATION:Fam. Widderich, Averfleth 3, Nortorf, 25554, Deutschland
SUMMARY:Grillfest der CDU Nortorf
END:VEVENT
END:VCALENDAR
