BEGIN:VCALENDAR
VERSION:2.0
PRODID:-//hacksw/handcal//NONSGML v1.0//EN
BEGIN:VEVENT
DTSTAMP:20190525T060000Z
DTSTART:20190525T060000Z
DTEND:20190525T100000Z
LOCATION:Bäckerei Steiskal, Bgm.-Drews-Straße 2, Kronshagen, 24119, Deutschland
SUMMARY:Wahlkampfstand der CDU Kronshagen
END:VEVENT
END:VCALENDAR
