BEGIN:VCALENDAR
VERSION:2.0
PRODID:-//hacksw/handcal//NONSGML v1.0//EN
BEGIN:VEVENT
DTSTAMP:20190209T180000Z
DTSTART:20190209T180000Z
DTEND:20190209T180000Z
LOCATION:Gaststätte "Störkroog", Am Wallberg 20, Willenscharen, 24616, Deutschland
SUMMARY:Grünkohlessen der CDU Kellinghusen
END:VEVENT
END:VCALENDAR
