BEGIN:VCALENDAR
VERSION:2.0
PRODID:-//hacksw/handcal//NONSGML v1.0//EN
BEGIN:VEVENT
DTSTAMP:20181203T151500Z
DTSTART:20181203T151500Z
DTEND:20181203T151500Z
SUMMARY:Kreisvorstandssitzung der CDU Steinburg
END:VEVENT
END:VCALENDAR
