BEGIN:VCALENDAR
VERSION:2.0
PRODID:-//hacksw/handcal//NONSGML v1.0//EN
BEGIN:VEVENT
DTSTAMP:20180503T170000Z
DTSTART:20180503T170000Z
DTEND:20180503T190000Z
LOCATION:Hohenfelder Gerätehaus, Dorfstraße 50, Hohenfelde, 25358, Deutschland
SUMMARY:Kreisvorstandssitzung der Frauen Union Steinburg 
END:VEVENT
END:VCALENDAR
